BEGIN:VCALENDAR
VERSION:2.0
PRODID:-//The Market Hall - ECPv5.12.4//NONSGML v1.0//EN
CALSCALE:GREGORIAN
METHOD:PUBLISH
X-WR-CALNAME:The Market Hall
X-ORIGINAL-URL:https://www.themarkethall.org.uk
X-WR-CALDESC:Events for The Market Hall
BEGIN:VTIMEZONE
TZID:UTC
BEGIN:STANDARD
TZOFFSETFROM:+0000
TZOFFSETTO:+0000
TZNAME:UTC
DTSTART:20260101T000000
END:STANDARD
TZID:Europe/London
BEGIN:DAYLIGHT
TZOFFSETFROM:+0000
TZOFFSETTO:+0100
TZNAME:BST
DTSTART:20260329T010000
END:DAYLIGHT
BEGIN:STANDARD
TZOFFSETFROM:+0100
TZOFFSETTO:+0000
TZNAME:GMT
DTSTART:20261025T010000
END:STANDARD
END:VTIMEZONE
BEGIN:VEVENT
DTSTART;TZID=UTC:20260423T190000
DTEND;TZID=UTC:20260423T210000
DTSTAMP:20260423T132008
CREATED:20220314T110550Z
LAST-MODIFIED:20260421T144915Z
UID:620-1776970800-1776978000@www.themarkethall.org.uk
SUMMARY:Cash Bingo
DESCRIPTION:
URL:https://www.themarkethall.org.uk/event/cash-bingo/
LOCATION:Wigton Market Hall\, Church Street\, Wigton\, Cumbria\, CA7 9AA\, United Kingdom
ATTACH;FMTTYPE=image/jpeg:https://www.themarkethall.org.uk/cms/wp-content/uploads/2022/01/Bingo.jpeg
END:VEVENT
BEGIN:VEVENT
DTSTART;TZID=Europe/London:20260425T100000
DTEND;TZID=Europe/London:20260425T170000
DTSTAMP:20260423T132008
CREATED:20260217T154447Z
LAST-MODIFIED:20260421T151529Z
UID:771-1777111200-1777136400@www.themarkethall.org.uk
SUMMARY:Craft Market
DESCRIPTION:Stalls are Sold Out \n✨ Join us at our upcoming Craft Fair! ✨ \nDiscover a wonderful selection of handmade and unique items\, including: \n🕯️ Candles & home fragrances\n🪟 Stained glass creations\n🪵 Wood & slate designs\n🧶 Knitwear\n🎁 Thoughtful gifts\n🌿 Willow weaving products\n💍 Jewellery\n🐾 Pet portraits\n🧵 Crochet items \nCome along\, support local makers\, and find something special—on what promises to be a busy day in Wigton during the annual Taste Wigton Event by the team at Taste Cumbria\, taking place right outside our doorstep! \nFree Entry
URL:https://www.themarkethall.org.uk/event/craft-market/
LOCATION:Wigton Market Hall\, Church Street\, Wigton\, Cumbria\, CA7 9AA\, United Kingdom
ATTACH;FMTTYPE=image/png:https://www.themarkethall.org.uk/cms/wp-content/uploads/2026/02/Untitled-10.png
ORGANIZER;CN="Wigton%20Market%20Hall":MAILTO:bookings@themarkethall.org.uk
END:VEVENT
END:VCALENDAR